BEGIN:VCALENDAR
VERSION:2.0
PRODID:-//Associazione culturale - ECPv5.6.0//NONSGML v1.0//EN
CALSCALE:GREGORIAN
METHOD:PUBLISH
X-WR-CALNAME:Associazione culturale
X-ORIGINAL-URL:https://www.asslastazione.it
X-WR-CALDESC:Eventi per Associazione culturale
BEGIN:VTIMEZONE
TZID:Europe/Paris
BEGIN:DAYLIGHT
TZOFFSETFROM:+0100
TZOFFSETTO:+0200
TZNAME:CEST
DTSTART:20170326T010000
END:DAYLIGHT
BEGIN:STANDARD
TZOFFSETFROM:+0200
TZOFFSETTO:+0100
TZNAME:CET
DTSTART:20171029T010000
END:STANDARD
END:VTIMEZONE
BEGIN:VEVENT
DTSTART;TZID=Europe/Paris:20170209T080000
DTEND;TZID=Europe/Paris:20170209T140000
DTSTAMP:20260421T105826
CREATED:20170409T175130Z
LAST-MODIFIED:20170409T175130Z
UID:716-1486627200-1486648800@www.asslastazione.it
SUMMARY:Workshop "I giocattoli della tradizione"
DESCRIPTION:Attività con le classi terze della scuola primaria di Giulianello in collaborazione con il Museo del Giocattolo di Sezze. \nCondividi:Fai clic per condividere su Facebook (Si apre in una nuova finestra)Fai clic qui per condividere su Twitter (Si apre in una nuova finestra)Clicca per condividere su Skype (Si apre in una nuova finestra)Fai clic per condividere su WhatsApp (Si apre in una nuova finestra)Fai clic per condividere su Telegram (Si apre in una nuova finestra)Fai clic qui per condividere su Pinterest (Si apre in una nuova finestra)Fai clic qui per stampare (Si apre in una nuova finestra)Mi piace:Mi piace Caricamento...
URL:https://www.asslastazione.it/eventi/workshop-i-giocattoli-della-tradizione/
LOCATION:Sala Lettura G. Canale\, Piazzale 11 Settembre\, Giulianello\, LT\, 04010\, Italia
ORGANIZER;CN="Associazione%20La%20Stazione":MAILTO:info@asslastazione.it
END:VEVENT
END:VCALENDAR